BEGIN:VCALENDAR
VERSION:2.0
PRODID:-//Sherborne Abbey | Dorset - ECPv6.15.18//NONSGML v1.0//EN
CALSCALE:GREGORIAN
METHOD:PUBLISH
X-WR-CALNAME:Sherborne Abbey | Dorset
X-ORIGINAL-URL:https://www.sherborneabbey.com
X-WR-CALDESC:Events for Sherborne Abbey | Dorset
REFRESH-INTERVAL;VALUE=DURATION:PT1H
X-Robots-Tag:noindex
X-PUBLISHED-TTL:PT1H
BEGIN:VTIMEZONE
TZID:UTC
BEGIN:STANDARD
TZOFFSETFROM:+0000
TZOFFSETTO:+0000
TZNAME:UTC
DTSTART:20250101T000000
END:STANDARD
END:VTIMEZONE
BEGIN:VEVENT
DTSTART;TZID=UTC:20260424T100000
DTEND;TZID=UTC:20260424T114500
DTSTAMP:20260424T184120
CREATED:20260320T214056Z
LAST-MODIFIED:20260408T195710Z
UID:8500-1777024800-1777031100@www.sherborneabbey.com
SUMMARY:Mothers’ Union Meeting – Guide Dog Talk
DESCRIPTION:Mothers’ Union Meeting – Guide Dog Talk \nThe next Mothers’ Union meeting will take place on Friday 24th April 2026 in the Griffiths Room\, Digby Memorial Church Hall. \nThe Mothers’ Union is a Christian organisation that brings people together in friendship\, support and community\, both locally and worldwide. \nGathering from 10.00am for a 10.30am start\, this meeting will feature Katherine Howe\, who will be bringing her guide dog and sharing the story of their training and life together. \nThis promises to be a fascinating and inspiring morning. All are warmly welcome to attend\, whether you are a regular or visiting for the first time. \n📍 Digby Memorial Church Hall\, Digby Road
URL:https://www.sherborneabbey.com/event/mothers-union-meeting-guide-dog-talk/
LOCATION:Digby Memorial Church Hall
CATEGORIES:Mother's Union
END:VEVENT
END:VCALENDAR